BEGIN:VCALENDAR
VERSION:2.0
PRODID:-//Germanenzunft Benzingen e.V.//NONSGML kigkonsult.se iCalcreator 2
 .30.10//
CALSCALE:GREGORIAN
METHOD:PUBLISH
UID:45c35330-22fd-40b7-8b4d-cde3f9eae034
X-WR-CALNAME:iCagenda
X-WR-CALDESC:Event Management Extension for Joomla!
X-WR-RELCALID:3E26604A-50F4-4449-8B3E-E4F4932D05B5
X-WR-TIMEZONE:UTC
BEGIN:VTIMEZONE
TZID:UTC
END:VTIMEZONE
BEGIN:VEVENT
UID:6e5371d2-a2fc-48f5-ab4d-a1c2d24d6dd7
DTSTAMP:20260419T144700Z
CATEGORIES:Sonstige Veranstaltungen
CLASS:PUBLIC
DESCRIPTION:
DTSTART:20250106T190000Z
DTEND:20250106T190000Z
GEO:+48.169369;+9.147688
LOCATION:Benzingen
ORGANIZER:
SEQUENCE:1
SUMMARY:Häsabstauben
TRANSP:OPAQUE
URL:https://www.germanenzunft.de/index.php/component/icagenda/1-haesabstaub
 en/2025-01-06-19-00?Itemid=103
END:VEVENT
END:VCALENDAR
