BEGIN:VCALENDAR
VERSION:2.0
PRODID:-//Germanenzunft Benzingen e.V.//NONSGML kigkonsult.se iCalcreator 2
 .30.10//
CALSCALE:GREGORIAN
METHOD:PUBLISH
UID:cfaa3341-ac03-4441-aba0-d7cdd14d2ef0
X-WR-CALNAME:iCagenda
X-WR-CALDESC:Event Management Extension for Joomla!
X-WR-RELCALID:3E26604A-50F4-4449-8B3E-E4F4932D05B5
X-WR-TIMEZONE:UTC
BEGIN:VTIMEZONE
TZID:UTC
END:VTIMEZONE
BEGIN:VEVENT
UID:d2bbf882-e8f4-4008-a878-503a0f545e28
DTSTAMP:20260419T124836Z
CATEGORIES:Umzüge
CLASS:PUBLIC
DESCRIPTION:
DTSTART:20250209T000000Z
DTEND:20250209T000000Z
GEO:00;0
LOCATION:Bisingen
ORGANIZER:
SEQUENCE:1
SUMMARY:Ringumzug Bisingen
TRANSP:OPAQUE
URL:https://www.germanenzunft.de/index.php/component/icagenda/10-ringumzug-
 bisingen/2025-02-09-00-00?Itemid=103
END:VEVENT
END:VCALENDAR
