BEGIN:VCALENDAR
VERSION:2.0
PRODID:-//Germanenzunft Benzingen e.V.//NONSGML kigkonsult.se iCalcreator 2
 .30.10//
CALSCALE:GREGORIAN
METHOD:PUBLISH
UID:aa114bb9-6da1-4c41-b4c2-07d42f1a039e
X-WR-CALNAME:iCagenda
X-WR-CALDESC:Event Management Extension for Joomla!
X-WR-RELCALID:3E26604A-50F4-4449-8B3E-E4F4932D05B5
X-WR-TIMEZONE:UTC
BEGIN:VTIMEZONE
TZID:UTC
END:VTIMEZONE
BEGIN:VEVENT
UID:3c60dcf7-a0aa-47cc-b4d8-42f872e5d744
DTSTAMP:20260419T124830Z
CATEGORIES:Brauchtumsabende
CLASS:PUBLIC
DESCRIPTION:
DTSTART:20250215T084300Z
DTEND:20250215T084300Z
GEO:00;0
LOCATION:Ebingen
ORGANIZER:
SEQUENCE:1
SUMMARY:Brauchtumsabend Ebingen
TRANSP:OPAQUE
URL:https://www.germanenzunft.de/index.php/component/icagenda/11-brauchtums
 abend-ebingen/2025-02-15-08-43?Itemid=103
END:VEVENT
END:VCALENDAR
