BEGIN:VCALENDAR
VERSION:2.0
PRODID:-//Germanenzunft Benzingen e.V.//NONSGML kigkonsult.se iCalcreator 2
 .30.10//
CALSCALE:GREGORIAN
METHOD:PUBLISH
UID:6c758ef3-443b-4721-885b-ee629e419f54
X-WR-CALNAME:iCagenda
X-WR-CALDESC:Event Management Extension for Joomla!
X-WR-RELCALID:3E26604A-50F4-4449-8B3E-E4F4932D05B5
X-WR-TIMEZONE:UTC
BEGIN:VTIMEZONE
TZID:UTC
END:VTIMEZONE
BEGIN:VEVENT
UID:55182c29-cc12-47a7-80c9-ce5f1740094a
DTSTAMP:20260419T124935Z
CATEGORIES:Umzüge
CLASS:PUBLIC
DESCRIPTION:
DTSTART:20250216T000000Z
DTEND:20250216T000000Z
GEO:00;0
LOCATION:Blochingen
ORGANIZER:
SEQUENCE:1
SUMMARY:Umzug Blochingen
TRANSP:OPAQUE
URL:https://www.germanenzunft.de/index.php/component/icagenda/12-umzug-bloc
 hingen/2025-02-16-00-00?Itemid=103
END:VEVENT
END:VCALENDAR
