BEGIN:VCALENDAR
VERSION:2.0
PRODID:-//Germanenzunft Benzingen e.V.//NONSGML kigkonsult.se iCalcreator 2
 .30.10//
CALSCALE:GREGORIAN
METHOD:PUBLISH
UID:55d839e7-8ed3-40fc-bbc3-b85ea14bfe47
X-WR-CALNAME:iCagenda
X-WR-CALDESC:Event Management Extension for Joomla!
X-WR-RELCALID:3E26604A-50F4-4449-8B3E-E4F4932D05B5
X-WR-TIMEZONE:UTC
BEGIN:VTIMEZONE
TZID:UTC
END:VTIMEZONE
BEGIN:VEVENT
UID:d109edb8-aa51-4d94-8284-384d510351d8
DTSTAMP:20260419T125037Z
CATEGORIES:Brauchtumsabende
CLASS:PUBLIC
DESCRIPTION:
DTSTART:20250222T000000Z
DTEND:20250222T000000Z
GEO:00;0
LOCATION:Veringendorf
ORGANIZER:
SEQUENCE:1
SUMMARY:Bürgerball Veringendorf
TRANSP:OPAQUE
URL:https://www.germanenzunft.de/index.php/component/icagenda/13-buergerbal
 l-veringendorf/2025-02-22-00-00?Itemid=103
END:VEVENT
END:VCALENDAR
