BEGIN:VCALENDAR
VERSION:2.0
PRODID:-//Germanenzunft Benzingen e.V.//NONSGML kigkonsult.se iCalcreator 2
 .30.10//
CALSCALE:GREGORIAN
METHOD:PUBLISH
UID:82a33d1e-bc63-40b0-afab-292d3c9c5dee
X-WR-CALNAME:iCagenda
X-WR-CALDESC:Event Management Extension for Joomla!
X-WR-RELCALID:3E26604A-50F4-4449-8B3E-E4F4932D05B5
X-WR-TIMEZONE:UTC
BEGIN:VTIMEZONE
TZID:UTC
END:VTIMEZONE
BEGIN:VEVENT
UID:9fb0cf95-27db-4db6-b9b3-20c153c81428
DTSTAMP:20260419T124738Z
CATEGORIES:Umzüge
CLASS:PUBLIC
DESCRIPTION:
DTSTART:20250223T000000Z
DTEND:20250223T000000Z
GEO:+48.003983;+9.823367
LOCATION:Eberhardzell
ORGANIZER:
SEQUENCE:1
SUMMARY:Umzug Eberhardzell
TRANSP:OPAQUE
URL:https://www.germanenzunft.de/index.php/component/icagenda/14-umzug-eber
 hardzell/2025-02-23-00-00?Itemid=103
END:VEVENT
END:VCALENDAR
