BEGIN:VCALENDAR
VERSION:2.0
PRODID:-//Germanenzunft Benzingen e.V.//NONSGML kigkonsult.se iCalcreator 2
 .30.10//
CALSCALE:GREGORIAN
METHOD:PUBLISH
UID:a2ba148a-b4e3-4e39-8929-410f25633120
X-WR-CALNAME:iCagenda
X-WR-CALDESC:Event Management Extension for Joomla!
X-WR-RELCALID:3E26604A-50F4-4449-8B3E-E4F4932D05B5
X-WR-TIMEZONE:UTC
BEGIN:VTIMEZONE
TZID:UTC
END:VTIMEZONE
BEGIN:VEVENT
UID:4d75cd63-c446-429b-8167-40ea9713889c
DTSTAMP:20260419T124738Z
CATEGORIES:Sonstige Veranstaltungen
CLASS:PUBLIC
DESCRIPTION:
DTSTART:20250227T000000Z
DTEND:20250227T000000Z
GEO:00;0
LOCATION:Benzingen
ORGANIZER:
SEQUENCE:1
SUMMARY:SchmoDo Benzingen
TRANSP:OPAQUE
URL:https://www.germanenzunft.de/index.php/component/icagenda/15-schmodo-be
 nzingen/2025-02-27-00-00?Itemid=103
END:VEVENT
END:VCALENDAR
