BEGIN:VCALENDAR
VERSION:2.0
PRODID:-//Germanenzunft Benzingen e.V.//NONSGML kigkonsult.se iCalcreator 2
 .30.10//
CALSCALE:GREGORIAN
METHOD:PUBLISH
UID:344ca466-9553-4fa1-8039-51e5943bbefe
X-WR-CALNAME:iCagenda
X-WR-CALDESC:Event Management Extension for Joomla!
X-WR-RELCALID:3E26604A-50F4-4449-8B3E-E4F4932D05B5
X-WR-TIMEZONE:UTC
BEGIN:VTIMEZONE
TZID:UTC
END:VTIMEZONE
BEGIN:VEVENT
UID:eed29d77-3f1f-4f0a-a58c-79884f1a1cf6
DTSTAMP:20260419T125124Z
CATEGORIES:Umzüge
CLASS:PUBLIC
DESCRIPTION:
DTSTART:20250228T000000Z
DTEND:20250228T000000Z
GEO:00;0
LOCATION:Straßberg
ORGANIZER:
SEQUENCE:1
SUMMARY:Nachtumzug Straßberg
TRANSP:OPAQUE
URL:https://www.germanenzunft.de/index.php/component/icagenda/17-nachtumzug
 -strassberg/2025-02-28-00-00?Itemid=103
END:VEVENT
END:VCALENDAR
