BEGIN:VCALENDAR
VERSION:2.0
PRODID:-//Germanenzunft Benzingen e.V.//NONSGML kigkonsult.se iCalcreator 2
 .30.10//
CALSCALE:GREGORIAN
METHOD:PUBLISH
UID:3d0e1eee-12f5-4c12-8d89-069c126b87b4
X-WR-CALNAME:iCagenda
X-WR-CALDESC:Event Management Extension for Joomla!
X-WR-RELCALID:3E26604A-50F4-4449-8B3E-E4F4932D05B5
X-WR-TIMEZONE:UTC
BEGIN:VTIMEZONE
TZID:UTC
END:VTIMEZONE
BEGIN:VEVENT
UID:56394261-cefc-46fc-aa0a-4085d8f23f0e
DTSTAMP:20260419T143756Z
CATEGORIES:Umzüge
CLASS:PUBLIC
DESCRIPTION:
DTSTART:20250111T190100Z
DTEND:20250111T190100Z
GEO:+48.190075;+9.28089
LOCATION:Inneringen
ORGANIZER:
SEQUENCE:1
SUMMARY:Nachtumzug Inneringen
TRANSP:OPAQUE
URL:https://www.germanenzunft.de/index.php/component/icagenda/2-nachtumzug-
 inneringen/2025-01-11-19-01?Itemid=103
END:VEVENT
END:VCALENDAR
