BEGIN:VCALENDAR
VERSION:2.0
PRODID:-//Germanenzunft Benzingen e.V.//NONSGML kigkonsult.se iCalcreator 2
 .30.10//
CALSCALE:GREGORIAN
METHOD:PUBLISH
UID:285068ff-1dc6-4208-9554-5245dfdfe4b6
X-WR-CALNAME:iCagenda
X-WR-CALDESC:Event Management Extension for Joomla!
X-WR-RELCALID:3E26604A-50F4-4449-8B3E-E4F4932D05B5
X-WR-TIMEZONE:UTC
BEGIN:VTIMEZONE
TZID:UTC
END:VTIMEZONE
BEGIN:VEVENT
UID:bdeb3844-4314-4dfe-b5c8-32f738b7332a
DTSTAMP:20260419T125119Z
CATEGORIES:Umzüge
CLASS:PUBLIC
DESCRIPTION:
DTSTART:20260110T194700Z
DTEND:20260110T194700Z
GEO:+48.197445;+9.152856
LOCATION:Harthausen
ORGANIZER:
SEQUENCE:1
SUMMARY:Nachtumzug Harthausen
TRANSP:OPAQUE
URL:https://www.germanenzunft.de/index.php/component/icagenda/23-nachtumzug
 -harthausen/2026-01-10-19-47?Itemid=103
END:VEVENT
END:VCALENDAR
