BEGIN:VCALENDAR
VERSION:2.0
PRODID:-//Germanenzunft Benzingen e.V.//NONSGML kigkonsult.se iCalcreator 2
 .30.10//
CALSCALE:GREGORIAN
METHOD:PUBLISH
UID:851a3f91-c3ca-4fce-8f86-795ab66e2a85
X-WR-CALNAME:iCagenda
X-WR-CALDESC:Event Management Extension for Joomla!
X-WR-RELCALID:3E26604A-50F4-4449-8B3E-E4F4932D05B5
X-WR-TIMEZONE:UTC
BEGIN:VTIMEZONE
TZID:UTC
END:VTIMEZONE
BEGIN:VEVENT
UID:6ca20c68-0223-41b6-b550-fb650365686f
DTSTAMP:20260419T124732Z
CATEGORIES:Guggenmusiktreffen
CLASS:PUBLIC
DESCRIPTION:
DTSTART:20260109T190000Z
DTEND:20260110T010000Z
GEO:+48.19651;+9.15745
LOCATION:Harthausen
ORGANIZER:
SEQUENCE:1
SUMMARY:Guggamusiktreffen Harthausen
TRANSP:OPAQUE
URL:https://www.germanenzunft.de/index.php/component/icagenda/24-guggamusik
 treffen-harthausen?Itemid=103
END:VEVENT
END:VCALENDAR
