BEGIN:VCALENDAR
VERSION:2.0
PRODID:-//Germanenzunft Benzingen e.V.//NONSGML kigkonsult.se iCalcreator 2
 .30.10//
CALSCALE:GREGORIAN
METHOD:PUBLISH
UID:5f97cc07-b606-4eaa-91a4-844f860318b7
X-WR-CALNAME:iCagenda
X-WR-CALDESC:Event Management Extension for Joomla!
X-WR-RELCALID:3E26604A-50F4-4449-8B3E-E4F4932D05B5
X-WR-TIMEZONE:UTC
BEGIN:VTIMEZONE
TZID:UTC
END:VTIMEZONE
BEGIN:VEVENT
UID:c319b807-e51c-4345-b2d2-4d8f3d363986
DTSTAMP:20260419T124556Z
CATEGORIES:Sonstige Veranstaltungen
CLASS:PUBLIC
DESCRIPTION:
DTSTART:20260106T150000Z
DTEND:20260106T235900Z
GEO:+48.169769;+9.147709
LOCATION:Benzingen
ORGANIZER:
SEQUENCE:1
SUMMARY:Häsabstauben
TRANSP:OPAQUE
URL:https://www.germanenzunft.de/index.php/component/icagenda/25-haesabstau
 ben-2?Itemid=103
END:VEVENT
END:VCALENDAR
