BEGIN:VCALENDAR
VERSION:2.0
PRODID:-//Germanenzunft Benzingen e.V.//NONSGML kigkonsult.se iCalcreator 2
 .30.10//
CALSCALE:GREGORIAN
METHOD:PUBLISH
UID:a5f9cd60-08d5-445c-95df-50bed6ae4cfb
X-WR-CALNAME:iCagenda
X-WR-CALDESC:Event Management Extension for Joomla!
X-WR-RELCALID:3E26604A-50F4-4449-8B3E-E4F4932D05B5
X-WR-TIMEZONE:UTC
BEGIN:VTIMEZONE
TZID:UTC
END:VTIMEZONE
BEGIN:VEVENT
UID:ec563ce1-5139-434b-9cd0-da007e3ee233
DTSTAMP:20260419T124706Z
CATEGORIES:Umzüge
CLASS:PUBLIC
DESCRIPTION:
DTSTART:20260116T193100Z
DTEND:20260117T010000Z
GEO:+48.219303;+9.232537
LOCATION:Hettingen
ORGANIZER:
SEQUENCE:1
SUMMARY:Nachtumzug Hettingen
TRANSP:OPAQUE
URL:https://www.germanenzunft.de/index.php/component/icagenda/26-nachtumzug
 -hettingen?Itemid=103
END:VEVENT
END:VCALENDAR
