BEGIN:VCALENDAR
VERSION:2.0
PRODID:-//Germanenzunft Benzingen e.V.//NONSGML kigkonsult.se iCalcreator 2
 .30.10//
CALSCALE:GREGORIAN
METHOD:PUBLISH
UID:daf52ade-0736-48b9-9666-80a3a284768a
X-WR-CALNAME:iCagenda
X-WR-CALDESC:Event Management Extension for Joomla!
X-WR-RELCALID:3E26604A-50F4-4449-8B3E-E4F4932D05B5
X-WR-TIMEZONE:UTC
BEGIN:VTIMEZONE
TZID:UTC
END:VTIMEZONE
BEGIN:VEVENT
UID:3fe03592-dbbf-468c-be0e-29943c2da154
DTSTAMP:20260419T124429Z
CATEGORIES:Brauchtumsabende
CLASS:PUBLIC
DESCRIPTION:
DTSTART:20260117T190000Z
DTEND:20260118T010000Z
GEO:+48.216156;+9.234038
LOCATION:Hettingen
ORGANIZER:
SEQUENCE:1
SUMMARY:Ringabend Hettingen
TRANSP:OPAQUE
URL:https://www.germanenzunft.de/index.php/component/icagenda/27-ringabend-
 hettingen?Itemid=103
END:VEVENT
END:VCALENDAR
