BEGIN:VCALENDAR
VERSION:2.0
PRODID:-//Germanenzunft Benzingen e.V.//NONSGML kigkonsult.se iCalcreator 2
 .30.10//
CALSCALE:GREGORIAN
METHOD:PUBLISH
UID:b0a396fa-d21a-40bd-87bc-505cce223a07
X-WR-CALNAME:iCagenda
X-WR-CALDESC:Event Management Extension for Joomla!
X-WR-RELCALID:3E26604A-50F4-4449-8B3E-E4F4932D05B5
X-WR-TIMEZONE:UTC
BEGIN:VTIMEZONE
TZID:UTC
END:VTIMEZONE
BEGIN:VEVENT
UID:8aaf5bfe-5779-41d7-95ed-899cac39238e
DTSTAMP:20260419T124609Z
CATEGORIES:Umzüge
CLASS:PUBLIC
DESCRIPTION:
DTSTART:20260118T133100Z
DTEND:20260118T170000Z
GEO:+48.219303;+9.232537
LOCATION:Hettingen
ORGANIZER:
SEQUENCE:1
SUMMARY:Ringumzug Hettingen
TRANSP:OPAQUE
URL:https://www.germanenzunft.de/index.php/component/icagenda/28-ringumzug-
 hettingen?Itemid=103
END:VEVENT
END:VCALENDAR
