BEGIN:VCALENDAR
VERSION:2.0
PRODID:-//Germanenzunft Benzingen e.V.//NONSGML kigkonsult.se iCalcreator 2
 .30.10//
CALSCALE:GREGORIAN
METHOD:PUBLISH
UID:f28ed420-686c-4ea5-af6a-39928021fcfc
X-WR-CALNAME:iCagenda
X-WR-CALDESC:Event Management Extension for Joomla!
X-WR-RELCALID:3E26604A-50F4-4449-8B3E-E4F4932D05B5
X-WR-TIMEZONE:UTC
BEGIN:VTIMEZONE
TZID:UTC
END:VTIMEZONE
BEGIN:VEVENT
UID:04ce4477-9418-4679-8f72-d943eedd7c3c
DTSTAMP:20260419T124414Z
CATEGORIES:Brauchtumsabende
CLASS:PUBLIC
DESCRIPTION:
DTSTART:20260123T000000Z
DTEND:20260123T000000Z
GEO:00;0
LOCATION:
ORGANIZER:
SEQUENCE:1
SUMMARY:Ringabend Straßberg
TRANSP:OPAQUE
URL:https://www.germanenzunft.de/index.php/component/icagenda/29-ringabend-
 strassberg?Itemid=103
END:VEVENT
END:VCALENDAR
