BEGIN:VCALENDAR
VERSION:2.0
PRODID:-//Germanenzunft Benzingen e.V.//NONSGML kigkonsult.se iCalcreator 2
 .30.10//
CALSCALE:GREGORIAN
METHOD:PUBLISH
UID:94609a7f-d6d9-4c11-acee-8665ca282aa8
X-WR-CALNAME:iCagenda
X-WR-CALDESC:Event Management Extension for Joomla!
X-WR-RELCALID:3E26604A-50F4-4449-8B3E-E4F4932D05B5
X-WR-TIMEZONE:UTC
BEGIN:VTIMEZONE
TZID:UTC
END:VTIMEZONE
BEGIN:VEVENT
UID:14895ced-61c7-44b0-834a-5af176c97d35
DTSTAMP:20260419T143732Z
CATEGORIES:Brauchtumsabende
CLASS:PUBLIC
DESCRIPTION:
DTSTART:20250118T000000Z
DTEND:20250118T000000Z
GEO:00;0
LOCATION:Tailfingen
ORGANIZER:
SEQUENCE:1
SUMMARY:Brauchtumsabend Tailfingen
TRANSP:OPAQUE
URL:https://www.germanenzunft.de/index.php/component/icagenda/3-brauchtumsa
 bend-tailfingen/2025-01-18-00-00?Itemid=103
END:VEVENT
END:VCALENDAR
