BEGIN:VCALENDAR
VERSION:2.0
PRODID:-//Germanenzunft Benzingen e.V.//NONSGML kigkonsult.se iCalcreator 2
 .30.10//
CALSCALE:GREGORIAN
METHOD:PUBLISH
UID:7e874a7f-023e-490a-8ef4-4993459d56bc
X-WR-CALNAME:iCagenda
X-WR-CALDESC:Event Management Extension for Joomla!
X-WR-RELCALID:3E26604A-50F4-4449-8B3E-E4F4932D05B5
X-WR-TIMEZONE:UTC
BEGIN:VTIMEZONE
TZID:UTC
END:VTIMEZONE
BEGIN:VEVENT
UID:5bffbc61-6576-4fbc-9efc-e3c4989904e0
DTSTAMP:20260419T124609Z
CATEGORIES:Umzüge
CLASS:PUBLIC
DESCRIPTION:
DTSTART:20260124T133000Z
DTEND:20260124T170000Z
GEO:00;0
LOCATION:
ORGANIZER:
SEQUENCE:1
SUMMARY:Kinderringumzug Straßberg
TRANSP:OPAQUE
URL:https://www.germanenzunft.de/index.php/component/icagenda/30-kinderring
 umzug-strassberg?Itemid=103
END:VEVENT
END:VCALENDAR
