BEGIN:VCALENDAR
VERSION:2.0
PRODID:-//Germanenzunft Benzingen e.V.//NONSGML kigkonsult.se iCalcreator 2
 .30.10//
CALSCALE:GREGORIAN
METHOD:PUBLISH
UID:36e46961-1911-40a5-86d4-40568c62d337
X-WR-CALNAME:iCagenda
X-WR-CALDESC:Event Management Extension for Joomla!
X-WR-RELCALID:3E26604A-50F4-4449-8B3E-E4F4932D05B5
X-WR-TIMEZONE:UTC
BEGIN:VTIMEZONE
TZID:UTC
END:VTIMEZONE
BEGIN:VEVENT
UID:577b875e-907e-44af-aedf-37b6257e6f15
DTSTAMP:20260419T124537Z
CATEGORIES:Umzüge
CLASS:PUBLIC
DESCRIPTION:
DTSTART:20260125T133000Z
DTEND:20260125T170000Z
GEO:00;0
LOCATION:
ORGANIZER:
SEQUENCE:1
SUMMARY:Ringumzug Straßberg
TRANSP:OPAQUE
URL:https://www.germanenzunft.de/index.php/component/icagenda/31-ringumzug-
 strassberg?Itemid=103
END:VEVENT
END:VCALENDAR
