BEGIN:VCALENDAR
VERSION:2.0
PRODID:-//Germanenzunft Benzingen e.V.//NONSGML kigkonsult.se iCalcreator 2
 .30.10//
CALSCALE:GREGORIAN
METHOD:PUBLISH
UID:93ba42dc-af41-4a63-a6d4-4a9232263d2f
X-WR-CALNAME:iCagenda
X-WR-CALDESC:Event Management Extension for Joomla!
X-WR-RELCALID:3E26604A-50F4-4449-8B3E-E4F4932D05B5
X-WR-TIMEZONE:UTC
BEGIN:VTIMEZONE
TZID:UTC
END:VTIMEZONE
BEGIN:VEVENT
UID:15691654-4f93-4e91-8694-53ca67d792ef
DTSTAMP:20260419T124656Z
CATEGORIES:Umzüge
CLASS:PUBLIC
DESCRIPTION:
DTSTART:20260131T173000Z
DTEND:20260131T235900Z
GEO:00;0
LOCATION:Neufra
ORGANIZER:
SEQUENCE:1
SUMMARY:Umzug Neufra
TRANSP:OPAQUE
URL:https://www.germanenzunft.de/index.php/component/icagenda/32-umzug-neuf
 ra?Itemid=103
END:VEVENT
END:VCALENDAR
