BEGIN:VCALENDAR
VERSION:2.0
PRODID:-//Germanenzunft Benzingen e.V.//NONSGML kigkonsult.se iCalcreator 2
 .30.10//
CALSCALE:GREGORIAN
METHOD:PUBLISH
UID:a7dc52e4-6206-46dc-ab36-d3837835494c
X-WR-CALNAME:iCagenda
X-WR-CALDESC:Event Management Extension for Joomla!
X-WR-RELCALID:3E26604A-50F4-4449-8B3E-E4F4932D05B5
X-WR-TIMEZONE:UTC
BEGIN:VTIMEZONE
TZID:UTC
END:VTIMEZONE
BEGIN:VEVENT
UID:abda9fbe-a247-40f5-b665-97f4090cd333
DTSTAMP:20260419T160447Z
CATEGORIES:Umzüge
CLASS:PUBLIC
DESCRIPTION:
DTSTART:20250126T000000Z
DTEND:20250126T000000Z
GEO:00;0
LOCATION:Straßberg
ORGANIZER:
SEQUENCE:1
SUMMARY:Umzug Straßberg
TRANSP:OPAQUE
URL:https://www.germanenzunft.de/index.php/component/icagenda/4-umzug-stras
 sberg/2025-01-26-00-00?Itemid=103
END:VEVENT
END:VCALENDAR
