BEGIN:VCALENDAR
VERSION:2.0
PRODID:-//Germanenzunft Benzingen e.V.//NONSGML kigkonsult.se iCalcreator 2
 .30.10//
CALSCALE:GREGORIAN
METHOD:PUBLISH
UID:197b2771-205f-482b-b0fc-dda6122f9db0
X-WR-CALNAME:iCagenda
X-WR-CALDESC:Event Management Extension for Joomla!
X-WR-RELCALID:3E26604A-50F4-4449-8B3E-E4F4932D05B5
X-WR-TIMEZONE:UTC
BEGIN:VTIMEZONE
TZID:UTC
END:VTIMEZONE
BEGIN:VEVENT
UID:9574db83-5cbc-4fbc-ad8a-a913f758645b
DTSTAMP:20260419T144148Z
CATEGORIES:Umzüge
CLASS:PUBLIC
DESCRIPTION:
DTSTART:20250131T000000Z
DTEND:20250131T000000Z
GEO:00;0
LOCATION:Feldhausen
ORGANIZER:
SEQUENCE:1
SUMMARY:Nachtumzug Feldhausen
TRANSP:OPAQUE
URL:https://www.germanenzunft.de/index.php/component/icagenda/5-nachtumzug-
 feldhausen/2025-01-31-00-00?Itemid=103
END:VEVENT
END:VCALENDAR
