BEGIN:VCALENDAR
VERSION:2.0
PRODID:-//Germanenzunft Benzingen e.V.//NONSGML kigkonsult.se iCalcreator 2
 .30.10//
CALSCALE:GREGORIAN
METHOD:PUBLISH
UID:79c2158a-10e0-46d3-bff3-74a9c7d9cf95
X-WR-CALNAME:iCagenda
X-WR-CALDESC:Event Management Extension for Joomla!
X-WR-RELCALID:3E26604A-50F4-4449-8B3E-E4F4932D05B5
X-WR-TIMEZONE:UTC
BEGIN:VTIMEZONE
TZID:UTC
END:VTIMEZONE
BEGIN:VEVENT
UID:13f668a3-7b76-4e32-a311-36293fa6321d
DTSTAMP:20260419T124732Z
CATEGORIES:Brauchtumsabende
CLASS:PUBLIC
DESCRIPTION:
DTSTART:20250201T000000Z
DTEND:20250201T000000Z
GEO:00;0
LOCATION:Feldhausen
ORGANIZER:
SEQUENCE:1
SUMMARY:Ringabend Feldhausen
TRANSP:OPAQUE
URL:https://www.germanenzunft.de/index.php/component/icagenda/6-ringabend-f
 eldhausen/2025-02-01-00-00?Itemid=103
END:VEVENT
END:VCALENDAR
