BEGIN:VCALENDAR
VERSION:2.0
PRODID:-//Germanenzunft Benzingen e.V.//NONSGML kigkonsult.se iCalcreator 2
 .30.10//
CALSCALE:GREGORIAN
METHOD:PUBLISH
UID:ffe9b1d3-544d-4182-8752-7404d9104af2
X-WR-CALNAME:iCagenda
X-WR-CALDESC:Event Management Extension for Joomla!
X-WR-RELCALID:3E26604A-50F4-4449-8B3E-E4F4932D05B5
X-WR-TIMEZONE:UTC
BEGIN:VTIMEZONE
TZID:UTC
END:VTIMEZONE
BEGIN:VEVENT
UID:597e965c-0453-439e-8ff5-c27c71ff6d1c
DTSTAMP:20260419T124918Z
CATEGORIES:Umzüge
CLASS:PUBLIC
DESCRIPTION:
DTSTART:20250202T000000Z
DTEND:20250202T000000Z
GEO:00;0
LOCATION:Feldhausen
ORGANIZER:
SEQUENCE:1
SUMMARY:Ringumzug Feldhausen
TRANSP:OPAQUE
URL:https://www.germanenzunft.de/index.php/component/icagenda/7-ringumzug-f
 eldhausen/2025-02-02-00-00?Itemid=103
END:VEVENT
END:VCALENDAR
