BEGIN:VCALENDAR
VERSION:2.0
PRODID:-//Germanenzunft Benzingen e.V.//NONSGML kigkonsult.se iCalcreator 2
 .30.10//
CALSCALE:GREGORIAN
METHOD:PUBLISH
UID:954cdab9-708d-4cdd-84e7-43d36ab6874b
X-WR-CALNAME:iCagenda
X-WR-CALDESC:Event Management Extension for Joomla!
X-WR-RELCALID:3E26604A-50F4-4449-8B3E-E4F4932D05B5
X-WR-TIMEZONE:UTC
BEGIN:VTIMEZONE
TZID:UTC
END:VTIMEZONE
BEGIN:VEVENT
UID:a5ff975c-3f19-48f8-8970-dc9116ab8526
DTSTAMP:20260419T141037Z
CATEGORIES:Brauchtumsabende
CLASS:PUBLIC
DESCRIPTION:
DTSTART:20250208T000000Z
DTEND:20250208T000000Z
GEO:00;0
LOCATION:Bisingen
ORGANIZER:
SEQUENCE:1
SUMMARY:Ringabend Bisingen
TRANSP:OPAQUE
URL:https://www.germanenzunft.de/index.php/component/icagenda/9-ringabend-b
 isingen/2025-02-08-00-00?Itemid=103
END:VEVENT
END:VCALENDAR
